BEGIN:VCALENDAR
VERSION:2.0
PRODID:-//Au delà des apparences - ECPv6.15.20//NONSGML v1.0//EN
CALSCALE:GREGORIAN
METHOD:PUBLISH
X-WR-CALNAME:Au delà des apparences
X-ORIGINAL-URL:https://audeladesapparences.fr
X-WR-CALDESC:Évènements pour Au delà des apparences
REFRESH-INTERVAL;VALUE=DURATION:PT1H
X-Robots-Tag:noindex
X-PUBLISHED-TTL:PT1H
BEGIN:VTIMEZONE
TZID:Europe/Paris
BEGIN:DAYLIGHT
TZOFFSETFROM:+0100
TZOFFSETTO:+0200
TZNAME:CEST
DTSTART:20250330T010000
END:DAYLIGHT
BEGIN:STANDARD
TZOFFSETFROM:+0200
TZOFFSETTO:+0100
TZNAME:CET
DTSTART:20251026T010000
END:STANDARD
BEGIN:DAYLIGHT
TZOFFSETFROM:+0100
TZOFFSETTO:+0200
TZNAME:CEST
DTSTART:20260329T010000
END:DAYLIGHT
BEGIN:STANDARD
TZOFFSETFROM:+0200
TZOFFSETTO:+0100
TZNAME:CET
DTSTART:20261025T010000
END:STANDARD
BEGIN:DAYLIGHT
TZOFFSETFROM:+0100
TZOFFSETTO:+0200
TZNAME:CEST
DTSTART:20270328T010000
END:DAYLIGHT
BEGIN:STANDARD
TZOFFSETFROM:+0200
TZOFFSETTO:+0100
TZNAME:CET
DTSTART:20271031T010000
END:STANDARD
END:VTIMEZONE
BEGIN:VEVENT
DTSTART;TZID=Europe/Paris:20260424T173000
DTEND;TZID=Europe/Paris:20260424T190000
DTSTAMP:20260423T214406
CREATED:20260413T151815Z
LAST-MODIFIED:20260413T152018Z
UID:1874-1777051800-1777057200@audeladesapparences.fr
SUMMARY:Comprendre la communication animale
DESCRIPTION:La communication animale propose une autre manière d’entrer en relation avec l’animal et d’explorer certaines informations qu’il peut transmettre.La communication animale est une pratique encore peu connue et souvent entourée de nombreuses idées reçues. \n\n\n\n\n\n\n\nCette conférence participative et exploratrice propose de découvrir en quoi consiste cette approche et comment elle se pratique. \n\n\n\nLa communication animale ne repose pas sur l’observation du comportement mais sur la perception d’informations transmises par l’animal.Elle peut se pratiquer en présence de l’animal ou à distance. \n\n\n\nLors de cette rencontre\, j’aborderai notamment : \n\n\n\n• ce qu’est la communication animale• comment se déroule une séance• dans quelles situations elle peut être sollicitée• ce que cette pratique peut éclairer dans la relation avec un animal \n\n\n\nCette conférence a pour objectif de présenter cette approche\, de clarifier certaines confusions fréquentes et d’ouvrir un espace d’échange autour de cette pratique. \n\n\n\nInscription obligatoire\, places limitées.
URL:https://audeladesapparences.fr/event/comprendre-la-communication-animale/
LOCATION:Infuse Montpellier\, 2 Rue Montpellieret\, Montpellier\, France
CATEGORIES:Conférence
ATTACH;FMTTYPE=image/jpeg:https://audeladesapparences.fr/wp-content/uploads/2026/04/Bandeau-FB-Conf-CA-Infuse-Montpellier.jpg
END:VEVENT
END:VCALENDAR