BEGIN:VCALENDAR
VERSION:2.0
PRODID:-//Au delà des apparences - ECPv6.15.20//NONSGML v1.0//EN
CALSCALE:GREGORIAN
METHOD:PUBLISH
X-WR-CALNAME:Au delà des apparences
X-ORIGINAL-URL:https://audeladesapparences.fr
X-WR-CALDESC:Évènements pour Au delà des apparences
REFRESH-INTERVAL;VALUE=DURATION:PT1H
X-Robots-Tag:noindex
X-PUBLISHED-TTL:PT1H
BEGIN:VTIMEZONE
TZID:Europe/Paris
BEGIN:DAYLIGHT
TZOFFSETFROM:+0100
TZOFFSETTO:+0200
TZNAME:CEST
DTSTART:20240331T010000
END:DAYLIGHT
BEGIN:STANDARD
TZOFFSETFROM:+0200
TZOFFSETTO:+0100
TZNAME:CET
DTSTART:20241027T010000
END:STANDARD
BEGIN:DAYLIGHT
TZOFFSETFROM:+0100
TZOFFSETTO:+0200
TZNAME:CEST
DTSTART:20250330T010000
END:DAYLIGHT
BEGIN:STANDARD
TZOFFSETFROM:+0200
TZOFFSETTO:+0100
TZNAME:CET
DTSTART:20251026T010000
END:STANDARD
BEGIN:DAYLIGHT
TZOFFSETFROM:+0100
TZOFFSETTO:+0200
TZNAME:CEST
DTSTART:20260329T010000
END:DAYLIGHT
BEGIN:STANDARD
TZOFFSETFROM:+0200
TZOFFSETTO:+0100
TZNAME:CET
DTSTART:20261025T010000
END:STANDARD
BEGIN:DAYLIGHT
TZOFFSETFROM:+0100
TZOFFSETTO:+0200
TZNAME:CEST
DTSTART:20270328T010000
END:DAYLIGHT
BEGIN:STANDARD
TZOFFSETFROM:+0200
TZOFFSETTO:+0100
TZNAME:CET
DTSTART:20271031T010000
END:STANDARD
END:VTIMEZONE
BEGIN:VEVENT
DTSTART;TZID=Europe/Paris:20260321T090000
DTEND;TZID=Europe/Paris:20260322T173000
DTSTAMP:20260423T202611
CREATED:20260222T230040Z
LAST-MODIFIED:20260308T175934Z
UID:1860-1774083600-1774200600@audeladesapparences.fr
SUMMARY:S'initier à la communication animale avec la présence des chevaux les 21 et 22 mars 2026
DESCRIPTION:Et si tu pouvais entendre les messages des animaux ? Ce stage d’initiation à la communication animale en présence des chevaux est fait pour toi si tu ressens cette envie de mieux comprendre les animaux de compagnie (chats\, chiens\, chevaux\, lapins\, hamsters\, tortue\, NAC) et tous les animaux domestiques\, de développer ton intuition et d’ouvrir un nouveau canal de perception. \n\n\n\nPourquoi faire une formation en présentiel alors qu’il y en a tant à distance ? Tu es chez toi\, pas de déplacement\, de frais annexes…Justement nous sommes déjà bien coupé·e·s de nos perceptions et comment être de nouveaux au contact du senti et nous relier à nos canaux\, au subtil ?Au contact des chevaux\, ces maîtres de la présence et de l’authenticité\, tu apprendras à affiner ta sensibilité et tes perceptions. \n\n\n\n\n\n\n\nÀ travers des exercices pratiques et guidés\, nous explorerons ensemble : \n\n\n\n\nLes bases de la communication animale : intuition\, télépathie et ressentis\n\n\n\nLa connexion aux chevaux pour développer ta présence et ton écoute subtile\n\n\n\nDes exercices pour lever les blocages mentaux et retrouver ta confiance\n\n\n\nLa pratique sur tes propres animaux\, à distance\, grâce aux photos\n\n\n\n\nPlus d’info sur ce niveau 1 \n\n\n\nLe lieu : dans un cadre naturel bienveillant\, au sein d’une écurie respectueuse du bien-être animal\, l’écurie du domaine de la Fleurière à Montarnaud 34 (proche Montpellier) \n\n\n\nPlaces limitées à 8 participants – Aucun prérequis si ce n’est ton ouverture d’esprit et l’amour des animauxViens vivre une expérience unique et t’ouvrir à un nouvel univers de communication avec les animaux.
URL:https://audeladesapparences.fr/event/sinitier-a-la-communication-animale-avec-la-presence-des-chevaux-les-21-et-22-mars-2026/
LOCATION:Ecurie Domaine de la Fleurière\, écurie domaine de la Fleurière\, Montarnaud\, France
CATEGORIES:Formation niveau 1
ATTACH;FMTTYPE=image/jpeg:https://audeladesapparences.fr/wp-content/uploads/2026/02/Affiche-Stage-CA-La-Fleuriere-21-22-mars-26-600.jpg
END:VEVENT
BEGIN:VEVENT
DTSTART;TZID=Europe/Paris:20251129T090000
DTEND;TZID=Europe/Paris:20251130T170000
DTSTAMP:20260423T202611
CREATED:20251020T220022Z
LAST-MODIFIED:20251021T184935Z
UID:1838-1764406800-1764522000@audeladesapparences.fr
SUMMARY:S'initier à la communication animale avec la présence des chevaux les 29 et 30 novembre 2025
DESCRIPTION:Et si tu pouvais entendre les messages des animaux ? Ce stage d’initiation à la communication animale en présence des chevaux est fait pour toi si tu ressens cette envie de mieux comprendre les animaux en général (de compagnie : chats\, chiens\, chevaux\, lapins\, hamsters\, tortue\, NAC et tous les animaux domestiques)\, de développer ton intuition et d’ouvrir un nouveau canal de perception\, \n\n\n\nPourquoi faire une formation en présentiel alors qu’il y en a tant à distance ? Tu es chez toi\, pas de déplacement\, de frais annexes…Justement nous sommes déjà bien coupé·e·s de nos perceptions et comment être de nouveaux au contact du senti et nous relier à nos canaux\, au subtil ?Au contact des chevaux\, ces maîtres de la présence et de l’authenticité\, tu apprendras à affiner ta sensibilité et tes perceptions. \n\n\n\n\n\n\n\nÀ travers des exercices pratiques et guidés\, nous explorerons ensemble : \n\n\n\n\nLes bases de la communication animale : intuition\, télépathie et ressentis\n\n\n\nLa connexion aux chevaux pour développer ta présence et ton écoute subtile\n\n\n\nDes exercices pour lever les blocages mentaux et retrouver ta confiance\n\n\n\nLa pratique sur tes propres animaux\, à distance\, grâce aux photos\n\n\n\n\n\nPlus d’info sur ce niveau 1\n\n\n\n\nLe lieu : dans un cadre naturel bienveillant\, au sein d’une écurie respectueuse du bien-être animal\, l’écurie du domaine de la Fleurière à Montarnaud 34 (proche Montpellier) \n\n\n\nPlaces limitées à 8 participants – Aucun prérequis si ce n’est ton ouverture d’esprit et l’amour des animauxViens vivre une expérience unique et t’ouvrir à un nouvel univers de communication avec les animaux.
URL:https://audeladesapparences.fr/event/s-initier-a-la-communication-animale-avec-la-presence-des-chevaux-les-29-30-novembre-2025/
LOCATION:Ecurie Domaine de la Fleurière\, écurie domaine de la Fleurière\, Montarnaud\, France
CATEGORIES:Formation niveau 1
ATTACH;FMTTYPE=image/jpeg:https://audeladesapparences.fr/wp-content/uploads/2025/10/Stage-CA-La-Fleuriere-29-30-nov-25-600.jpg
END:VEVENT
BEGIN:VEVENT
DTSTART;TZID=Europe/Paris:20250830T090000
DTEND;TZID=Europe/Paris:20250831T173000
DTSTAMP:20260423T202611
CREATED:20250727T220028Z
LAST-MODIFIED:20250827T141851Z
UID:1746-1756544400-1756661400@audeladesapparences.fr
SUMMARY:Nouveau stage en communication animale Niveau 2
DESCRIPTION:🌟 Approfondir sa pratique\, clarifier ses ressentis\, aller plus loin ! \n\n\n\nSuite aux belles expériences vécues lors des stages d’initiation et aux nombreux retours positifs\, je suis heureuse de vous proposer un stage de niveau 2\, pensé comme une poursuite naturelle du chemin déjà engagé ensemble. \n\n\n\nCe stage s’adresse exclusivement aux personnes ayant suivi le niveau 1 avec moi et ayant pratiqué régulièrement la communication animale depuis (je recommande a minima 5 à 10 communications réalisées\, que ce soit avec vos animaux ou ceux d’autres personnes). \n\n\n\n\n\n\n\n\n\n\n\n🎯 Objectifs de ce niveau 2 :\n\n\n\n\nAffiner ses perceptions extra-sensorielles à travers de nouveaux exercices ciblés\n\n\n\nApprofondir sa capacité à se centrer et à se préparer à la communication (ancrage\, respiration\, élévation du taux vibratoire)\n\n\n\nApprocher la notion de miroir : ce que les animaux reflètent de nous\, en conscience ou non\n\n\n\nIdentifier et dépasser ses projections\, résistances ou interprétations mentales\n\n\n\nExplorer de nouveaux outils pour décrypter les messages reçus avec plus de clarté\n\n\n\nTravailler sa posture intérieure : accueillir ce qui vient sans jugement\, avec écoute et justesse\n\n\n\n\n\n\n\n\n📌 Informations pratiques\n\n\n\n📅 Dates proposées : [à insérer ou à venir]📍 Lieu : même lieu naturel que pour le niveau 1👥 Groupe de 6 à 8 participant·es maximum⏱️ Stage sur 2 jours – 14h de formation📸 Apportez les nouvelles photos de ses animaux pour les exercices à distance💬 Échanges en groupe autour des expériences vécues\, partages de bonnes pratiques et de doutes \n\n\n\n\n\n\n\n🧭 Pour qui ?\n\n\n\nCe stage s’adresse à toute personne ayant : \n\n\n\n\nParticipé au stage d’initiation niveau 1 avec moi\n\n\n\nPratiqué suffisamment de communications animales (on l’évalue ensemble avant le stage)\n\n\n\nEnvie d’approfondir sa pratique\, de gagner en justesse et de mieux se connaître dans cette relation subtile\n\n\n\n\n\n\n\n\nTout ceci dans un espace bienveillant pour affiner sa posture de communicant·e et enrichir sa relation avec le vivant. \n\n\n\nProchain pas vers l’écoute sensible : affiner sa posture\, accueillir avec justesse et laisser les animaux\, ainsi que les chevaux\, vous guider plus loin.
URL:https://audeladesapparences.fr/event/nouveau-stage-en-communication-animale-niveau-2/
LOCATION:Domaine du Réganel\, Les Matelles\, France
CATEGORIES:Formation niveau 2
ATTACH;FMTTYPE=image/jpeg:https://audeladesapparences.fr/wp-content/uploads/2025/07/complicite-femme-chat.jpg
ORGANIZER;CN="Au Del%C3%A0 Des Apparences":MAILTO:contact@audeladesapparences.fr
END:VEVENT
BEGIN:VEVENT
DTSTART;TZID=Europe/Paris:20250711T100000
DTEND;TZID=Europe/Paris:20250711T100000
DTSTAMP:20260423T202611
CREATED:20250620T220020Z
LAST-MODIFIED:20250702T154023Z
UID:1733-1752228000-1752228000@audeladesapparences.fr
SUMMARY:Émotions en mouvement : s’écouter pour se libérer
DESCRIPTION:Dans le cadre du festival « le bien-être au féminin » du 7 au 12 juillet 2025\, je te propose un atelier pour apprivoiser tes émotions ! Ce festival est organisé par Mary-lou fondatrice du Shine studio à Grabels. \n\n\n\n\n\n\n\nFormat de l’atelier\n\n\n\nCet atelier n’est pas thérapeutique ! \n\n\n\nIl sera animé avec douceur et conviction (pas de techniques de sophrologie\, juste de la présence et des outils simples). \n\n\n\nAccueil à partir de 9h45 pour un démarrage à 10h et une durée d’1h30. \n\n\n\nLes objectifs et bienfaits\n\n\n\nUn atelier doux et profond pour : \n\n\n\n\nComprendre ses émotions\n\n\n\nApprendre à les accueillir sans jugement\n\n\n\nLibérer ce qui pèse par le corps\, la parole ou le dessin\n\n\n\nPartager entre femmes dans un cadre bienveillant\n\n\n\n\nAu programme\n\n\n\n\nTemps d’ancrage corporel (respiration\, scan corporel)\n\n\n\nExpression créative (écriture\, mouvement\, dessin)\n\n\n\nÉchanges libres en petit cercle\n\n\n\nRituel de clôture tout en douceur\n\n\n\n\nPour qui ?\n\n\n\nToutes les femmes\, quel que soit l’âge ou le vécu\, souhaitant se reconnecter à leurs ressentis dans un espace de sororité et de respect. \n\n\n\nTarifs et modalités d’inscription\n\n\n\nPlaces limitées ! 12 personnes max. \n\n\n\n\nPour les adhérentes à Shine studio\, l’inscription se fait à partir de la plateforme habituelle pour réserver les cours.\n\n\n\n\n\nPour les non-adhérentes\, réservez vite votre place en me contactant.
URL:https://audeladesapparences.fr/event/emotions-en-mouvement-atelier-10-juillet-2025/
LOCATION:Shine studio Montpellier\, 21\, rue du Château\, Grabels\, France
CATEGORIES:Atelier
ATTACH;FMTTYPE=image/jpeg:https://audeladesapparences.fr/wp-content/uploads/2025/06/Flyer-emotions-en-mouvement-1.jpg
END:VEVENT
END:VCALENDAR